BEGIN:VCALENDAR
METHOD:PUBLISH
PRODID:-//Weblication CMS
VERSION:2.0
BEGIN:VEVENT
SUMMARY:Frei&#039;Tastischen
DTSTART:20260130T170000
DTEND:20260130T190000
DESCRIPTION:Die Gruppe ist für alle, die Freitags einen netten und gemütlichen Abend zusammen verbringen möchten.
LOCATION:
UID:https://www.ase-dinslaken.de/de/veranstaltungen/termine/Feierabend-Treff.php
URL:https://www.ase-dinslaken.de/de/veranstaltungen/termine/Feierabend-Treff.php
END:VEVENT
BEGIN:VEVENT
SUMMARY:Frei&#039;Tastischen
DTSTART:20260227T170000
DTEND:20260227T190000
DESCRIPTION:Die Gruppe ist für alle, die Freitags einen netten und gemütlichen Abend zusammen verbringen möchten.
LOCATION:
UID:https://www.ase-dinslaken.de/de/veranstaltungen/termine/Feierabend-Treff.php
URL:https://www.ase-dinslaken.de/de/veranstaltungen/termine/Feierabend-Treff.php
END:VEVENT
BEGIN:VEVENT
SUMMARY:Frei&#039;Tastischen
DTSTART:20260327T170000
DTEND:20260327T190000
DESCRIPTION:Die Gruppe ist für alle, die Freitags einen netten und gemütlichen Abend zusammen verbringen möchten.
LOCATION:
UID:https://www.ase-dinslaken.de/de/veranstaltungen/termine/Feierabend-Treff.php
URL:https://www.ase-dinslaken.de/de/veranstaltungen/termine/Feierabend-Treff.php
END:VEVENT
BEGIN:VEVENT
SUMMARY:Frei&#039;Tastischen
DTSTART:20260424T170000
DTEND:20260424T190000
DESCRIPTION:Die Gruppe ist für alle, die Freitags einen netten und gemütlichen Abend zusammen verbringen möchten.
LOCATION:
UID:https://www.ase-dinslaken.de/de/veranstaltungen/termine/Feierabend-Treff.php
URL:https://www.ase-dinslaken.de/de/veranstaltungen/termine/Feierabend-Treff.php
END:VEVENT
BEGIN:VEVENT
SUMMARY:Frei&#039;Tastischen
DTSTART:20260529T170000
DTEND:20260529T190000
DESCRIPTION:Die Gruppe ist für alle, die Freitags einen netten und gemütlichen Abend zusammen verbringen möchten.
LOCATION:
UID:https://www.ase-dinslaken.de/de/veranstaltungen/termine/Feierabend-Treff.php
URL:https://www.ase-dinslaken.de/de/veranstaltungen/termine/Feierabend-Treff.php
END:VEVENT
BEGIN:VEVENT
SUMMARY:Frei&#039;Tastischen
DTSTART:20260626T170000
DTEND:20260626T190000
DESCRIPTION:Die Gruppe ist für alle, die Freitags einen netten und gemütlichen Abend zusammen verbringen möchten.
LOCATION:
UID:https://www.ase-dinslaken.de/de/veranstaltungen/termine/Feierabend-Treff.php
URL:https://www.ase-dinslaken.de/de/veranstaltungen/termine/Feierabend-Treff.php
END:VEVENT
BEGIN:VEVENT
SUMMARY:Frei&#039;Tastischen
DTSTART:20260724T170000
DTEND:20260724T190000
DESCRIPTION:Die Gruppe ist für alle, die Freitags einen netten und gemütlichen Abend zusammen verbringen möchten.
LOCATION:
UID:https://www.ase-dinslaken.de/de/veranstaltungen/termine/Feierabend-Treff.php
URL:https://www.ase-dinslaken.de/de/veranstaltungen/termine/Feierabend-Treff.php
END:VEVENT
BEGIN:VEVENT
SUMMARY:Frei&#039;Tastischen
DTSTART:20260828T170000
DTEND:20260828T190000
DESCRIPTION:Die Gruppe ist für alle, die Freitags einen netten und gemütlichen Abend zusammen verbringen möchten.
LOCATION:
UID:https://www.ase-dinslaken.de/de/veranstaltungen/termine/Feierabend-Treff.php
URL:https://www.ase-dinslaken.de/de/veranstaltungen/termine/Feierabend-Treff.php
END:VEVENT
BEGIN:VEVENT
SUMMARY:Frei&#039;Tastischen
DTSTART:20260925T170000
DTEND:20260925T190000
DESCRIPTION:Die Gruppe ist für alle, die Freitags einen netten und gemütlichen Abend zusammen verbringen möchten.
LOCATION:
UID:https://www.ase-dinslaken.de/de/veranstaltungen/termine/Feierabend-Treff.php
URL:https://www.ase-dinslaken.de/de/veranstaltungen/termine/Feierabend-Treff.php
END:VEVENT
BEGIN:VEVENT
SUMMARY:Frei&#039;Tastischen
DTSTART:20261023T170000
DTEND:20261023T190000
DESCRIPTION:Die Gruppe ist für alle, die Freitags einen netten und gemütlichen Abend zusammen verbringen möchten.
LOCATION:
UID:https://www.ase-dinslaken.de/de/veranstaltungen/termine/Feierabend-Treff.php
URL:https://www.ase-dinslaken.de/de/veranstaltungen/termine/Feierabend-Treff.php
END:VEVENT
BEGIN:VEVENT
SUMMARY:Frei&#039;Tastischen
DTSTART:20261127T170000
DTEND:20261127T190000
DESCRIPTION:Die Gruppe ist für alle, die Freitags einen netten und gemütlichen Abend zusammen verbringen möchten.
LOCATION:
UID:https://www.ase-dinslaken.de/de/veranstaltungen/termine/Feierabend-Treff.php
URL:https://www.ase-dinslaken.de/de/veranstaltungen/termine/Feierabend-Treff.php
END:VEVENT
END:VCALENDAR