BEGIN:VCALENDAR
METHOD:PUBLISH
PRODID:-//Weblication CMS
VERSION:2.0
BEGIN:VEVENT
SUMMARY:Tanzen
DTSTART:20260131T100000
DTEND:20260131T130000
DESCRIPTION:Wir sind eine Gruppe die Tanzen. Du bewegst dich gerne  Und magst Musik. Wir haben Spaß am Tanzen und Bewegen. Es gibt viele Pausen und Snacks.
LOCATION:
UID:https://www.ase-dinslaken.de/de/veranstaltungen/termine/Tanzen.php
URL:https://www.ase-dinslaken.de/de/veranstaltungen/termine/Tanzen.php
END:VEVENT
BEGIN:VEVENT
SUMMARY:Tanzen
DTSTART:20260228T100000
DTEND:20260228T130000
DESCRIPTION:Wir sind eine Gruppe die Tanzen. Du bewegst dich gerne  Und magst Musik. Wir haben Spaß am Tanzen und Bewegen. Es gibt viele Pausen und Snacks.
LOCATION:
UID:https://www.ase-dinslaken.de/de/veranstaltungen/termine/Tanzen.php
URL:https://www.ase-dinslaken.de/de/veranstaltungen/termine/Tanzen.php
END:VEVENT
BEGIN:VEVENT
SUMMARY:Tanzen
DTSTART:20260328T100000
DTEND:20260328T130000
DESCRIPTION:Wir sind eine Gruppe die Tanzen. Du bewegst dich gerne  Und magst Musik. Wir haben Spaß am Tanzen und Bewegen. Es gibt viele Pausen und Snacks.
LOCATION:
UID:https://www.ase-dinslaken.de/de/veranstaltungen/termine/Tanzen.php
URL:https://www.ase-dinslaken.de/de/veranstaltungen/termine/Tanzen.php
END:VEVENT
BEGIN:VEVENT
SUMMARY:Tanzen
DTSTART:20260425T100000
DTEND:20260425T130000
DESCRIPTION:Wir sind eine Gruppe die Tanzen. Du bewegst dich gerne  Und magst Musik. Wir haben Spaß am Tanzen und Bewegen. Es gibt viele Pausen und Snacks.
LOCATION:
UID:https://www.ase-dinslaken.de/de/veranstaltungen/termine/Tanzen.php
URL:https://www.ase-dinslaken.de/de/veranstaltungen/termine/Tanzen.php
END:VEVENT
BEGIN:VEVENT
SUMMARY:Tanzen
DTSTART:20260530T100000
DTEND:20260530T130000
DESCRIPTION:Wir sind eine Gruppe die Tanzen. Du bewegst dich gerne  Und magst Musik. Wir haben Spaß am Tanzen und Bewegen. Es gibt viele Pausen und Snacks.
LOCATION:
UID:https://www.ase-dinslaken.de/de/veranstaltungen/termine/Tanzen.php
URL:https://www.ase-dinslaken.de/de/veranstaltungen/termine/Tanzen.php
END:VEVENT
BEGIN:VEVENT
SUMMARY:Tanzen
DTSTART:20260627T100000
DTEND:20260627T130000
DESCRIPTION:Wir sind eine Gruppe die Tanzen. Du bewegst dich gerne  Und magst Musik. Wir haben Spaß am Tanzen und Bewegen. Es gibt viele Pausen und Snacks.
LOCATION:
UID:https://www.ase-dinslaken.de/de/veranstaltungen/termine/Tanzen.php
URL:https://www.ase-dinslaken.de/de/veranstaltungen/termine/Tanzen.php
END:VEVENT
BEGIN:VEVENT
SUMMARY:Tanzen
DTSTART:20260725T100000
DTEND:20260725T130000
DESCRIPTION:Wir sind eine Gruppe die Tanzen. Du bewegst dich gerne  Und magst Musik. Wir haben Spaß am Tanzen und Bewegen. Es gibt viele Pausen und Snacks.
LOCATION:
UID:https://www.ase-dinslaken.de/de/veranstaltungen/termine/Tanzen.php
URL:https://www.ase-dinslaken.de/de/veranstaltungen/termine/Tanzen.php
END:VEVENT
BEGIN:VEVENT
SUMMARY:Tanzen
DTSTART:20260829T100000
DTEND:20260829T130000
DESCRIPTION:Wir sind eine Gruppe die Tanzen. Du bewegst dich gerne  Und magst Musik. Wir haben Spaß am Tanzen und Bewegen. Es gibt viele Pausen und Snacks.
LOCATION:
UID:https://www.ase-dinslaken.de/de/veranstaltungen/termine/Tanzen.php
URL:https://www.ase-dinslaken.de/de/veranstaltungen/termine/Tanzen.php
END:VEVENT
BEGIN:VEVENT
SUMMARY:Tanzen
DTSTART:20260926T100000
DTEND:20260926T130000
DESCRIPTION:Wir sind eine Gruppe die Tanzen. Du bewegst dich gerne  Und magst Musik. Wir haben Spaß am Tanzen und Bewegen. Es gibt viele Pausen und Snacks.
LOCATION:
UID:https://www.ase-dinslaken.de/de/veranstaltungen/termine/Tanzen.php
URL:https://www.ase-dinslaken.de/de/veranstaltungen/termine/Tanzen.php
END:VEVENT
BEGIN:VEVENT
SUMMARY:Tanzen
DTSTART:20261024T100000
DTEND:20261024T130000
DESCRIPTION:Wir sind eine Gruppe die Tanzen. Du bewegst dich gerne  Und magst Musik. Wir haben Spaß am Tanzen und Bewegen. Es gibt viele Pausen und Snacks.
LOCATION:
UID:https://www.ase-dinslaken.de/de/veranstaltungen/termine/Tanzen.php
URL:https://www.ase-dinslaken.de/de/veranstaltungen/termine/Tanzen.php
END:VEVENT
BEGIN:VEVENT
SUMMARY:Tanzen
DTSTART:20261128T100000
DTEND:20261128T130000
DESCRIPTION:Wir sind eine Gruppe die Tanzen. Du bewegst dich gerne  Und magst Musik. Wir haben Spaß am Tanzen und Bewegen. Es gibt viele Pausen und Snacks.
LOCATION:
UID:https://www.ase-dinslaken.de/de/veranstaltungen/termine/Tanzen.php
URL:https://www.ase-dinslaken.de/de/veranstaltungen/termine/Tanzen.php
END:VEVENT
BEGIN:VEVENT
SUMMARY:Tanzen
DTSTART:20261219T100000
DTEND:20261219T130000
DESCRIPTION:Wir sind eine Gruppe die Tanzen. Du bewegst dich gerne  Und magst Musik. Wir haben Spaß am Tanzen und Bewegen. Es gibt viele Pausen und Snacks.
LOCATION:
UID:https://www.ase-dinslaken.de/de/veranstaltungen/termine/Tanzen.php
URL:https://www.ase-dinslaken.de/de/veranstaltungen/termine/Tanzen.php
END:VEVENT
END:VCALENDAR